BEGIN:VCALENDAR
VERSION:2.0
PRODID:-//Pomona &amp; District Community House Inc. - ECPv6.15.20//NONSGML v1.0//EN
CALSCALE:GREGORIAN
METHOD:PUBLISH
X-WR-CALNAME:Pomona &amp; District Community House Inc.
X-ORIGINAL-URL:https://pomonacommunityhouse.org.au
X-WR-CALDESC:Events for Pomona &amp; District Community House Inc.
REFRESH-INTERVAL;VALUE=DURATION:PT1H
X-Robots-Tag:noindex
X-PUBLISHED-TTL:PT1H
BEGIN:VTIMEZONE
TZID:Australia/Brisbane
BEGIN:STANDARD
TZOFFSETFROM:+1000
TZOFFSETTO:+1000
TZNAME:AEST
DTSTART:20250101T000000
END:STANDARD
END:VTIMEZONE
BEGIN:VEVENT
DTSTART;TZID=Australia/Brisbane:20260519T180000
DTEND;TZID=Australia/Brisbane:20260519T200000
DTSTAMP:20260422T104453
CREATED:20260408T234702Z
LAST-MODIFIED:20260408T234702Z
UID:10014980-1779213600-1779220800@pomonacommunityhouse.org.au
SUMMARY:Open Men's Group
DESCRIPTION:A group designed to give men a place to talk openly\, without lectures or pressure.  Facilitated by local men as part of the not-for-profit organisation Mens Wellbeing. \nthe groups are about creating a safe space for honest conversation. Andy\, one of the facilitators notes\, “Sometimes the smartest thing a man can do is reach out for something new. Something that might initially feel uncomfortable”. \n\nCome once or be a regular\, OMGs are a no obligation opportunity to have meaningful connection with other men.\nHosted by experienced facilitators from the Mens Wellbeing Community who create a safe and comfortable environment.\nEvery man is welcome and our guidelines ensure that there is respect for all.
URL:https://pomonacommunityhouse.org.au/event/open-mens-group/2026-05-19/
LOCATION:Lawson Shed\, Memorial Avenue\, Pomona\, QLD\, 4568\, Australia
CATEGORIES:New,Regular Group
ATTACH;FMTTYPE=image/jpeg:https://pomonacommunityhouse.org.au/wp-content/uploads/2026/04/043A1108.jpg
GEO:-26.3656805;152.8553913
X-APPLE-STRUCTURED-LOCATION;VALUE=URI;X-ADDRESS=Lawson Shed Memorial Avenue Pomona QLD 4568 Australia;X-APPLE-RADIUS=500;X-TITLE=Memorial Avenue:geo:152.8553913,-26.3656805
END:VEVENT
BEGIN:VEVENT
DTSTART;TZID=Australia/Brisbane:20260616T180000
DTEND;TZID=Australia/Brisbane:20260616T200000
DTSTAMP:20260422T104453
CREATED:20260408T234702Z
LAST-MODIFIED:20260408T234702Z
UID:10014981-1781632800-1781640000@pomonacommunityhouse.org.au
SUMMARY:Open Men's Group
DESCRIPTION:A group designed to give men a place to talk openly\, without lectures or pressure.  Facilitated by local men as part of the not-for-profit organisation Mens Wellbeing. \nthe groups are about creating a safe space for honest conversation. Andy\, one of the facilitators notes\, “Sometimes the smartest thing a man can do is reach out for something new. Something that might initially feel uncomfortable”. \n\nCome once or be a regular\, OMGs are a no obligation opportunity to have meaningful connection with other men.\nHosted by experienced facilitators from the Mens Wellbeing Community who create a safe and comfortable environment.\nEvery man is welcome and our guidelines ensure that there is respect for all.
URL:https://pomonacommunityhouse.org.au/event/open-mens-group/2026-06-16/
LOCATION:Lawson Shed\, Memorial Avenue\, Pomona\, QLD\, 4568\, Australia
CATEGORIES:New,Regular Group
ATTACH;FMTTYPE=image/jpeg:https://pomonacommunityhouse.org.au/wp-content/uploads/2026/04/043A1108.jpg
GEO:-26.3656805;152.8553913
X-APPLE-STRUCTURED-LOCATION;VALUE=URI;X-ADDRESS=Lawson Shed Memorial Avenue Pomona QLD 4568 Australia;X-APPLE-RADIUS=500;X-TITLE=Memorial Avenue:geo:152.8553913,-26.3656805
END:VEVENT
END:VCALENDAR